BEGIN:VCALENDAR
VERSION:2.0
PRODID:-//Brf Harald Stake - ECPv6.15.20//NONSGML v1.0//EN
CALSCALE:GREGORIAN
METHOD:PUBLISH
X-ORIGINAL-URL:https://brfharaldstake.se
X-WR-CALDESC:Händelser för Brf Harald Stake
REFRESH-INTERVAL;VALUE=DURATION:PT1H
X-Robots-Tag:noindex
X-PUBLISHED-TTL:PT1H
BEGIN:VTIMEZONE
TZID:UTC
BEGIN:STANDARD
TZOFFSETFROM:+0000
TZOFFSETTO:+0000
TZNAME:UTC
DTSTART:20190101T000000
END:STANDARD
END:VTIMEZONE
BEGIN:VEVENT
DTSTART;TZID=UTC:20250510T140000
DTEND;TZID=UTC:20250510T160000
DTSTAMP:20260421T100804
CREATED:20250328T052018Z
LAST-MODIFIED:20250328T052020Z
UID:2202-1746885600-1746892800@brfharaldstake.se
SUMMARY:Grillning
DESCRIPTION:Välkomna på grillning på gården utanför Vänortsgatan 12! Föreningen bjuder på lunch och trevligt sällskap. Ett bra tillfälle att umgås med nya och gamla grannar. Vi hoppas på soligt väder!
URL:https://brfharaldstake.se/aktiviteter/grillning/
END:VEVENT
BEGIN:VEVENT
DTSTART;TZID=UTC:20250509T080000
DTEND;TZID=UTC:20250509T080000
DTSTAMP:20260421T100804
CREATED:20250328T051619Z
LAST-MODIFIED:20250328T051623Z
UID:2200-1746777600-1746777600@brfharaldstake.se
SUMMARY:Containerhelg
DESCRIPTION:Den 9–11 maj är det dags för containerhelg igen. Containern ställs utanför sopstationen på Vänortsgatan 12 på fredagen och hämtas igen på måndag morgon. Här kan du slänga sådant som faller under kategorin brännbart. Containern låses nattetid.
URL:https://brfharaldstake.se/aktiviteter/containerhelg/
END:VEVENT
BEGIN:VEVENT
DTSTART;TZID=UTC:20241205T190000
DTEND;TZID=UTC:20241205T220000
DTSTAMP:20260421T100804
CREATED:20241125T193003Z
LAST-MODIFIED:20241125T193006Z
UID:2125-1733425200-1733436000@brfharaldstake.se
SUMMARY:Pubkväll
DESCRIPTION:Styrelsen bjuder på pubkväll inför julen. Bra tillfälle att träffa grannar. Vibjuder på tilltugg som korv\, ost\, chips och godis. Öl och vin säljs i baren tillsjälvkostnadspris.
URL:https://brfharaldstake.se/aktiviteter/pubkvall-3/
END:VEVENT
BEGIN:VEVENT
DTSTART;TZID=UTC:20240829T190000
DTEND;TZID=UTC:20240829T220000
DTSTAMP:20260421T100804
CREATED:20240813T181408Z
LAST-MODIFIED:20240813T185551Z
UID:2077-1724958000-1724968800@brfharaldstake.se
SUMMARY:Pubkväll
DESCRIPTION:Torsdagen den 29 augusti är det dags för pubkväll igen i föreningslokalen på Vänortsgatan 12. Baren är öppen från klockan 19.00. Öl\, vin och läsk finns att köpa. Föreningen bjuder på snacks och tilltugg. \n\n\n\nPubkvällen är en fin möjlighet att umgås med grannar och lära känna nya. För dig som är nyinflyttad är det ett extra bra tillfälle. \n\n\n\nVälkomna!
URL:https://brfharaldstake.se/aktiviteter/pubkvall-2/
END:VEVENT
BEGIN:VEVENT
DTSTART;TZID=UTC:20230415T020000
DTEND;TZID=UTC:20230415T170000
DTSTAMP:20260421T100804
CREATED:20230411T155015Z
LAST-MODIFIED:20230411T155043Z
UID:1883-1681524000-1681578000@brfharaldstake.se
SUMMARY:Korvgrillning
DESCRIPTION:Välkomna på korvgrillning vid uteplatsen på Vänortsgatan 8!
URL:https://brfharaldstake.se/aktiviteter/korvgrillning/
END:VEVENT
BEGIN:VEVENT
DTSTART;TZID=UTC:20221215T180000
DTEND;TZID=UTC:20221215T220000
DTSTAMP:20260421T100804
CREATED:20221212T162821Z
LAST-MODIFIED:20221212T162906Z
UID:1860-1671127200-1671141600@brfharaldstake.se
SUMMARY:Julpub
DESCRIPTION:Varmt välkomna på julpub i föreningslokalen på Vänortsgatan 12. Öl\, vin och cider till självkostnadspris. Vi bjuder på läsk och tilltugg.Hoppas vi ses!
URL:https://brfharaldstake.se/aktiviteter/julpub/
END:VEVENT
BEGIN:VEVENT
DTSTART;TZID=UTC:20220901T190000
DTEND;TZID=UTC:20220901T210000
DTSTAMP:20260421T100804
CREATED:20220816T202350Z
LAST-MODIFIED:20220816T202352Z
UID:1806-1662058800-1662066000@brfharaldstake.se
SUMMARY:Pubkväll
DESCRIPTION:Varmt välkomna på pubkväll i föreningslokalen på Vänortsgatan 12! \n\n\n\n \n\n\n\nVi bjuder på tilltugg. I baren säljer vi öl\, vin och alkoholfri dryck.
URL:https://brfharaldstake.se/aktiviteter/pubkvall/
END:VEVENT
BEGIN:VEVENT
DTSTART;TZID=UTC:20210925T140000
DTEND;TZID=UTC:20210925T170000
DTSTAMP:20260421T100804
CREATED:20210804T063140Z
LAST-MODIFIED:20210804T063142Z
UID:1576-1632578400-1632589200@brfharaldstake.se
SUMMARY:Grillunch på gården
DESCRIPTION:Efter en lång tid av pandemi och inställda aktiviteter kan börjar vi äntligen se en ljusning. Vi bjuder in alla medlemmar till en trevlig grillunch på gården utanför Vänortsgatan 12. Hjärtligt välkomna att äta gott grillat och umgås med era grannar. Äntligen! Fint väder är beställt.
URL:https://brfharaldstake.se/aktiviteter/grillunch-pa-garden/
END:VEVENT
BEGIN:VEVENT
DTSTART;TZID=UTC:20210924T150000
DTEND;TZID=UTC:20210926T060000
DTSTAMP:20260421T100804
CREATED:20210804T061703Z
LAST-MODIFIED:20210822T125450Z
UID:1568-1632495600-1632636000@brfharaldstake.se
SUMMARY:Container på gården
DESCRIPTION:Vi tillhandahåller en hyrd container som ställs utanför Pizza Marcus på Hagåkersgatan 2. Alla medlemmar är välkomna att slänga överblivet brännbart skräp i containern. Containern anländer på eftermiddagen den 24 september och är öppen till kl 18.00 samma dag. Containern är sedan öppen 10.00 till 18.00 hela helgen\, både den 25 och 26 september.
URL:https://brfharaldstake.se/aktiviteter/container-pa-garden/
END:VEVENT
BEGIN:VEVENT
DTSTART;TZID=UTC:20201208T183000
DTEND;TZID=UTC:20201208T190000
DTSTAMP:20260421T100804
CREATED:20200906T164802Z
LAST-MODIFIED:20201105T122311Z
UID:966-1607452200-1607454000@brfharaldstake.se
SUMMARY:Öppet hus med styrelsen (INSTÄLLT)
DESCRIPTION:Uppdatering 2020-11-05:På grund av Folkhälsomyndihetens nya rekommendationer med anledning av Covid-19 är öppet hus inställt. Detta gäller även samtliga aktiviteter året ut. \n\n\nVälkomna ner till föreningslokalen klockan 18.30–19.00. Vi bjuder på fika och diskussion\, umgås och svarar på dina frågor. \nÄr det något du undrar över eller vill ha hjälp med\, eller bara vill träffa styrelsen\, så är du varmt välkommen. \nHoppas att vi ses!
URL:https://brfharaldstake.se/aktiviteter/oppet-hus-med-styrelsen-4/
ATTACH;FMTTYPE=image/png:https://media.brfharaldstake.se/2020/09/oppet-hus.png
END:VEVENT
BEGIN:VEVENT
DTSTART;TZID=UTC:20201103T183000
DTEND;TZID=UTC:20201103T190000
DTSTAMP:20260421T100804
CREATED:20200906T164713Z
LAST-MODIFIED:20201105T122324Z
UID:964-1604428200-1604430000@brfharaldstake.se
SUMMARY:Öppet hus med styrelsen (INSTÄLLT)
DESCRIPTION:Uppdatering 2020-11-05: På grund av Folkhälsomyndihetens nya rekommendationer med anledning av Covid-19 är öppet hus inställt. Detta gäller även samtliga aktiviteter året ut. \n\n\nVälkomna ner till föreningslokalen klockan 18.30–19.00. Vi bjuder på fika och diskussion\, umgås och svarar på dina frågor. \nÄr det något du undrar över eller vill ha hjälp med\, eller bara vill träffa styrelsen\, så är du varmt välkommen. \nHoppas att vi ses!
URL:https://brfharaldstake.se/aktiviteter/oppet-hus-med-styrelsen-3/
ATTACH;FMTTYPE=image/png:https://media.brfharaldstake.se/2020/09/oppet-hus.png
END:VEVENT
BEGIN:VEVENT
DTSTART;TZID=UTC:20201006T183000
DTEND;TZID=UTC:20201006T190000
DTSTAMP:20260421T100804
CREATED:20200906T164556Z
LAST-MODIFIED:20200906T164556Z
UID:962-1602009000-1602010800@brfharaldstake.se
SUMMARY:Öppet hus med styrelsen
DESCRIPTION:Välkomna ner till föreningslokalen klockan 18.30–19.00. Vi bjuder på fika och diskussion\, umgås och svarar på dina frågor. \nÄr det något du undrar över eller vill ha hjälp med\, eller bara vill träffa styrelsen\, så är du varmt välkommen. \nHoppas att vi ses!
URL:https://brfharaldstake.se/aktiviteter/oppet-hus-med-styrelsen-2/
ATTACH;FMTTYPE=image/png:https://media.brfharaldstake.se/2020/09/oppet-hus.png
END:VEVENT
BEGIN:VEVENT
DTSTART;TZID=UTC:20200908T183000
DTEND;TZID=UTC:20200908T190000
DTSTAMP:20260421T100804
CREATED:20200906T164346Z
LAST-MODIFIED:20200906T164346Z
UID:957-1599589800-1599591600@brfharaldstake.se
SUMMARY:Öppet hus med styrelsen
DESCRIPTION:Välkomna ner till föreningslokalen klockan 18.30–19.00. Vi bjuder på fika och diskussion\, umgås och svarar på dina frågor. \nÄr det något du undrar över eller vill ha hjälp med\, eller bara vill träffa styrelsen\, så är du varmt välkommen. \nHoppas att vi ses!
URL:https://brfharaldstake.se/aktiviteter/oppet-hus-med-styrelsen/
ATTACH;FMTTYPE=image/png:https://media.brfharaldstake.se/2020/09/oppet-hus.png
END:VEVENT
END:VCALENDAR